BEGIN:VCALENDAR
VERSION:2.0
PRODID:-//Madison Park Development Corporation - ECPv6.15.18//NONSGML v1.0//EN
CALSCALE:GREGORIAN
METHOD:PUBLISH
X-ORIGINAL-URL:https://www.madison-park.org
X-WR-CALDESC:Events for Madison Park Development Corporation
REFRESH-INTERVAL;VALUE=DURATION:PT1H
X-Robots-Tag:noindex
X-PUBLISHED-TTL:PT1H
BEGIN:VTIMEZONE
TZID:America/New_York
BEGIN:DAYLIGHT
TZOFFSETFROM:-0500
TZOFFSETTO:-0400
TZNAME:EDT
DTSTART:20210314T070000
END:DAYLIGHT
BEGIN:STANDARD
TZOFFSETFROM:-0400
TZOFFSETTO:-0500
TZNAME:EST
DTSTART:20211107T060000
END:STANDARD
BEGIN:DAYLIGHT
TZOFFSETFROM:-0500
TZOFFSETTO:-0400
TZNAME:EDT
DTSTART:20220313T070000
END:DAYLIGHT
BEGIN:STANDARD
TZOFFSETFROM:-0400
TZOFFSETTO:-0500
TZNAME:EST
DTSTART:20221106T060000
END:STANDARD
BEGIN:DAYLIGHT
TZOFFSETFROM:-0500
TZOFFSETTO:-0400
TZNAME:EDT
DTSTART:20230312T070000
END:DAYLIGHT
BEGIN:STANDARD
TZOFFSETFROM:-0400
TZOFFSETTO:-0500
TZNAME:EST
DTSTART:20231105T060000
END:STANDARD
BEGIN:DAYLIGHT
TZOFFSETFROM:-0500
TZOFFSETTO:-0400
TZNAME:EDT
DTSTART:20240310T070000
END:DAYLIGHT
BEGIN:STANDARD
TZOFFSETFROM:-0400
TZOFFSETTO:-0500
TZNAME:EST
DTSTART:20241103T060000
END:STANDARD
END:VTIMEZONE
BEGIN:VTIMEZONE
TZID:UTC
BEGIN:STANDARD
TZOFFSETFROM:+0000
TZOFFSETTO:+0000
TZNAME:UTC
DTSTART:20190101T000000
END:STANDARD
END:VTIMEZONE
BEGIN:VEVENT
DTSTART;TZID=America/New_York:20231130T193000
DTEND;TZID=America/New_York:20231130T210000
DTSTAMP:20260422T122737
CREATED:20231121T224817Z
LAST-MODIFIED:20231121T224817Z
UID:10001028-1701372600-1701378000@www.madison-park.org
SUMMARY:For Nina | Hosted by VLA Dance x Hibernian Hall
DESCRIPTION:Hibernian Hall and VLA Dance present “For Nina\,” a performing arts thank you letter to artist and activist\, Nina Simone.\nAbout For Nina: “For Nina” will celebrate the songs of Nina Simone through dance by Victoria Lynn Awkward\, vocals by Desiré Graham\, piano by Hua Ye (Jane)\, lighting design by Elmer Martinez\, sets by Mikayla Williams\, and performances from guest youth dancers.\nWhen: November 30th\, 2023; from 7:30 pm to 9:30 pm (door open at 7:30 pm\, show begins at 8:00 pm)\nWhere: Hibernian Hall (located at 184 Dudley Street\, Roxbury MA 02119)\nClick here to purchase tickets!\nFor more information about For Nina\, please contact hibernianhall@madison-park.org.\n#MPDC #MPDCRox #ItsHappeningatHibernian
URL:https://www.madison-park.org/event/for-nina-hosted-by-vla-dance-x-hibernian-hall/
LOCATION:Hibernian Hall\, 184 Dudley Street\, Roxbury\, MA\, 02119\, United States
CATEGORIES:Arts & Culture,Hibernian Hall,Madison Park Development Corporation,MPDC
ATTACH;FMTTYPE=image/png:https://www.madison-park.org/wp-content/uploads/2023/11/For-Nina.png
ORGANIZER;CN="Hibernian Hall":MAILTO:fwilliams@madison-park.org
GEO:42.32875;-71.0820409
X-APPLE-STRUCTURED-LOCATION;VALUE=URI;X-ADDRESS=Hibernian Hall 184 Dudley Street Roxbury MA 02119 United States;X-APPLE-RADIUS=500;X-TITLE=184 Dudley Street:geo:-71.0820409,42.32875
END:VEVENT
BEGIN:VEVENT
DTSTART;TZID=America/New_York:20221029T193000
DTEND;TZID=America/New_York:20221106T210000
DTSTAMP:20260422T122737
CREATED:20220922T204716Z
LAST-MODIFIED:20221026T140811Z
UID:10000898-1667071800-1667768400@www.madison-park.org
SUMMARY:ALIVE (hosted by Hibernian Hall and VLA Dance)
DESCRIPTION:Hibernian Hall and VLA Dance present ALIVE\, a dance-theater experience!\nAbout “ALIVE”: Hibernian Hall and VLA DANCE invite you to the premiere of ALIVE: a dance theater experience with immersive elements\, live music\, awe-inspiring visuals\, and costumes! Sight\, sound\, and motion pull you into a world of excitement\, joy\, and triumph. With a cast of 11 performers\, ALIVE will take you through the dreamy journey of Ayo\, guided by Ubuntu\, as they follow their heartbeat.\nWhen: Saturday\, October 29th\, 2022 — November 4th\, 5th\, 6th\, 2022\nWhere: Hibernian Hall (located at 184 Dudley Street\, Roxbury\, MA 02119)\nCost: $20 — $25 (General Admission: $25; Students + Seniors: $20)\nTo purchase tickets\, please click here.\nFor more information about ALIVE\, please email Haris Lefteri at hlefteri@madison-park.org.\nWe hope to see you there! #ItsHappeningatHibernian
URL:https://www.madison-park.org/event/alive-hosted-by-hibernian-hall-and-vla-dance/
LOCATION:Hibernian Hall
CATEGORIES:Arts & Culture,Hibernian Hall,Madison Park Development Corporation,MPDC
ATTACH;FMTTYPE=image/png:https://www.madison-park.org/wp-content/uploads/2022/09/ALIVE-Flyer-1-1.png
ORGANIZER;CN="Hibernian Hall":MAILTO:fwilliams@madison-park.org
END:VEVENT
BEGIN:VEVENT
DTSTART;TZID=UTC:20200706T083000
DTEND;TZID=UTC:20200812T193000
DTSTAMP:20260422T122737
CREATED:20200427T215327Z
LAST-MODIFIED:20200617T233726Z
UID:10000768-1594024200-1597260600@www.madison-park.org
SUMMARY:Summer Online Movement Series (Mondays & Wednesdays)
DESCRIPTION:Summer Online Movement Series\nJULY 6 – AUGUST 12 \n\n\n\n\n\nMondays & Wednesdays \n\n\n\n\n\n\n\n\n\n\n\n\n\n\n\n\n\n\n\n\n\n\n\n\n\n\n\n\n\n\n\n\nVLA DANCE and Hibernian Hall present our Summer Online Movement Series\, a six-week session of movement classes for youth and adults held online from July 6 – August 12. Classes will be taught by the VLA DANCE company members on Mondays and Wednesdays online via Zoom and are divided into youth (aged 10-15) and adults (aged 16+). The program is free for all participants. \nThis unique program is designed by Boston-based organizations for the Boston and greater Boston community. Classes will have an encouraging virtual environment that creates a sense of togetherness\, and the curriculum has been intentionally designed to support the youth and working adults of our community. VLA DANCE and Hibernian Hall intend to create a space for joy and collective grounding through movement. \nCheck out our most up to date schedule below! \n\n\n\n\n\n\n\n\n\n\n\n\n\n\n\n\n\n\n\n\n\n\n\n\n\n\n\n\n\nRegister Today!\n\n\n\n\n\n\n\n\n\n\n\n\n\n\n\nADULT Drop-in Schedule \n\n\n\n\n\n\n\n\n\n\n\n\n\n\n\n\n\nAdult drop-in classes are open to everyone of all identities and dance experiences unless otherwise noted. Classes include yoga\, conditioning\, ballet\, and contemporary dance and are aimed at any adult 16+ who want to keep their body and mind healthy over the summer months. \n\n\n\n\n\n\n\n\n\n\n\n\n\n\n\n\n\n\n\n\n\n\n\n\n\n\nMondays \n8:30 – 9:30 AM Yoga \n9:30 – 10:30 AM Conditioning \n10:30 – 11:30 AM Contemporary Practices (Dance Experience Required) \n​5:30 – 6:30 PM Ballet (Dance Experience Required) \n6:30 – 7:30 PM BIPOC* Only Yoga\, Meditation\, Journaling\, & Celebration of Life \n\n\n\n\n\n\n\n\n\n\n\n\n\n\n\n\n\n\n\n\n\n\n\n\n\n\n\n\n\n\n\n\n\n\n\n\n\n\n\n\n\n\n\n\n\n\n\n\n\n\n\n\n\n\n\n\n\n\n\n\n\n\n\n\n\n\n\n\n\n\nWednesdays \n8:30 – 9:30 AM Yoga \n9:30 – 10:30 AM Conditioning \n10:30 – 11:30 AM Contemporary Practices (Dance Experience Required) \n5:30 – 6:30 PM Contemporary Practices (Dance Experience Required) \n6:30 – 7:30 PM BIPOC* Only Yoga\, Meditation\, Journaling\, & Celebration of Life \n\n\n\n\n\n\n\n\n\n\n\n\n\n\n\n\n\n\n\n\n*BIPOC stands for Black\, Indigenous\, and People of Color and is self-identified. This evening yoga class is intended to be a space for celebrating this specific community. \n\n\n\n\n\n\n\n\n\n\n\n\n\n\n\nRegister Now!\n\n\n\n\n\n\n\n\n\n\n\n\n\n\n\n\n\n\n\n\n\n\n\n\n\n\n\n\n\n\n\nYOUTH Six-week Program \n\n\n\n\n\n\n\n\n\n\n\n\n\n\n\n\n\nThe six-week youth program is for ages 10 -15 and intended to utilize dance and creative practices to continue teaching essential skills of emotional grounding\, reading\, and writing over the summer. The youth program creates structured summer learning and youth students must attend all six weeks of classes to attain the full experience. All classes are open to everyone of all identities and dance experiences within the age brackets. \n\n\n\n\n\n\n\n\n\n\n\n\n\n\n\n\n\n\n\n\n\n\n\n\n\n\n\n\n\n\n\n\n\n\n\n\n\n\n\n\n\n\n\n\n\n\n\nMondays & Wednesdays \n1:00 – 2:00 PM Yoga\, Meditations & Reflections \n2:00 – 3:00 PM Modern Dance \n3:00 – 4:00 PM Contemporary Dance \n4:00 – 5:00 PM Creative Practices \n\n\n\n\n\n\n\n\n\n\n\n\n\n\n\n\n\n\n\n\n\n\n\n\nRegister Now!
URL:https://www.madison-park.org/event/summer-online-movement-series/
LOCATION:ONLINE
CATEGORIES:Arts & Culture,Hibernian Hall
ATTACH;FMTTYPE=image/png:https://www.madison-park.org/wp-content/uploads/2020/04/VLA_summeronline_IGpost_06.07.png
ORGANIZER;CN="Hibernian Hall":MAILTO:fwilliams@madison-park.org
END:VEVENT
END:VCALENDAR