BEGIN:VCALENDAR
VERSION:2.0
PRODID:-//Madison Park Development Corporation - ECPv6.15.18//NONSGML v1.0//EN
CALSCALE:GREGORIAN
METHOD:PUBLISH
X-ORIGINAL-URL:https://www.madison-park.org
X-WR-CALDESC:Events for Madison Park Development Corporation
REFRESH-INTERVAL;VALUE=DURATION:PT1H
X-Robots-Tag:noindex
X-PUBLISHED-TTL:PT1H
BEGIN:VTIMEZONE
TZID:UTC
BEGIN:STANDARD
TZOFFSETFROM:+0000
TZOFFSETTO:+0000
TZNAME:UTC
DTSTART:20180101T000000
END:STANDARD
END:VTIMEZONE
BEGIN:VEVENT
DTSTART;TZID=UTC:20190501T160000
DTEND;TZID=UTC:20190628T180000
DTSTAMP:20260423T074512
CREATED:20190501T182934Z
LAST-MODIFIED:20190501T182934Z
UID:10000686-1556726400-1561744800@www.madison-park.org
SUMMARY:Vibrant Boston Violin Classes @ The Dewitt (Wednesdays\, Thursdays\, & Fridays)
DESCRIPTION:Learn to play a stringed instrument with Vibrant Boston (Cello\, Bass\, Violin). All instruments are provided.\nCost: One-time Registration fee $50\nAge Range: 6+ \nWednesday\, Thursday\, Fridays 4:00pm – 6:00pm
URL:https://www.madison-park.org/event/vibrant-boston-violin-classes-the-dewitt-wednesdays-thursdays-fridays/
LOCATION:Dewitt Center\, 122 Dewitt Drive\, Roxbury\, MA\, 02110\, United States
CATEGORIES:Arts & Culture,Dewitt Community Center
ATTACH;FMTTYPE=image/png:https://www.madison-park.org/wp-content/uploads/2019/05/Vibrant-Viloin-Web-Thumb-Photo.png
ORGANIZER;CN="Vibrant Boston":MAILTO:info@vibrantboston.com
END:VEVENT
END:VCALENDAR