BEGIN:VCALENDAR
VERSION:2.0
PRODID:-//Madison Park Development Corporation - ECPv6.15.18//NONSGML v1.0//EN
CALSCALE:GREGORIAN
METHOD:PUBLISH
X-ORIGINAL-URL:https://www.madison-park.org
X-WR-CALDESC:Events for Madison Park Development Corporation
REFRESH-INTERVAL;VALUE=DURATION:PT1H
X-Robots-Tag:noindex
X-PUBLISHED-TTL:PT1H
BEGIN:VTIMEZONE
TZID:UTC
BEGIN:STANDARD
TZOFFSETFROM:+0000
TZOFFSETTO:+0000
TZNAME:UTC
DTSTART:20180101T000000
END:STANDARD
END:VTIMEZONE
BEGIN:VEVENT
DTSTART;TZID=UTC:20190921T140000
DTEND;TZID=UTC:20190921T160000
DTSTAMP:20260425T080716
CREATED:20190919T184800Z
LAST-MODIFIED:20190919T184800Z
UID:10000744-1569074400-1569081600@www.madison-park.org
SUMMARY:College Access Program Information Session
DESCRIPTION:Come learn about the Islamic Multiservice Organizations’s College Access Program at the Dewitt Center! \nSaturday\, September 21 \n2:00pm – 4:00pm \nAges: Grades 9-12
URL:https://www.madison-park.org/event/college-access-program-information-session/
LOCATION:Dewitt Center\, 122 Dewitt Drive\, Roxbury\, MA\, 02110\, United States
CATEGORIES:Dewitt Community Center
ATTACH;FMTTYPE=image/png:https://www.madison-park.org/wp-content/uploads/2019/09/CAP-Web-Thumb.png
END:VEVENT
BEGIN:VEVENT
DTSTART;TZID=UTC:20190817T110000
DTEND;TZID=UTC:20190817T130000
DTSTAMP:20260425T080716
CREATED:20190807T214623Z
LAST-MODIFIED:20190807T214623Z
UID:10000718-1566039600-1566046800@www.madison-park.org
SUMMARY:Islamic Multi-Service Organization College Resource Info Session
DESCRIPTION:
URL:https://www.madison-park.org/event/islamic-multi-service-organization-college-resource-info-session/
LOCATION:Dewitt Center\, 122 Dewitt Drive\, Roxbury\, MA\, 02110\, United States
CATEGORIES:Dewitt Community Center,Youth Development
ATTACH;FMTTYPE=image/png:https://www.madison-park.org/wp-content/uploads/2019/01/ISMO-Web-Thumb.png
END:VEVENT
END:VCALENDAR