BEGIN:VCALENDAR
VERSION:2.0
PRODID:-//Madison Park Development Corporation - ECPv6.15.18//NONSGML v1.0//EN
CALSCALE:GREGORIAN
METHOD:PUBLISH
X-ORIGINAL-URL:https://www.madison-park.org
X-WR-CALDESC:Events for Madison Park Development Corporation
REFRESH-INTERVAL;VALUE=DURATION:PT1H
X-Robots-Tag:noindex
X-PUBLISHED-TTL:PT1H
BEGIN:VTIMEZONE
TZID:America/New_York
BEGIN:DAYLIGHT
TZOFFSETFROM:-0500
TZOFFSETTO:-0400
TZNAME:EDT
DTSTART:20210314T070000
END:DAYLIGHT
BEGIN:STANDARD
TZOFFSETFROM:-0400
TZOFFSETTO:-0500
TZNAME:EST
DTSTART:20211107T060000
END:STANDARD
BEGIN:DAYLIGHT
TZOFFSETFROM:-0500
TZOFFSETTO:-0400
TZNAME:EDT
DTSTART:20220313T070000
END:DAYLIGHT
BEGIN:STANDARD
TZOFFSETFROM:-0400
TZOFFSETTO:-0500
TZNAME:EST
DTSTART:20221106T060000
END:STANDARD
BEGIN:DAYLIGHT
TZOFFSETFROM:-0500
TZOFFSETTO:-0400
TZNAME:EDT
DTSTART:20230312T070000
END:DAYLIGHT
BEGIN:STANDARD
TZOFFSETFROM:-0400
TZOFFSETTO:-0500
TZNAME:EST
DTSTART:20231105T060000
END:STANDARD
BEGIN:DAYLIGHT
TZOFFSETFROM:-0500
TZOFFSETTO:-0400
TZNAME:EDT
DTSTART:20240310T070000
END:DAYLIGHT
BEGIN:STANDARD
TZOFFSETFROM:-0400
TZOFFSETTO:-0500
TZNAME:EST
DTSTART:20241103T060000
END:STANDARD
END:VTIMEZONE
BEGIN:VTIMEZONE
TZID:UTC
BEGIN:STANDARD
TZOFFSETFROM:+0000
TZOFFSETTO:+0000
TZNAME:UTC
DTSTART:20210101T000000
END:STANDARD
END:VTIMEZONE
BEGIN:VEVENT
DTSTART;TZID=America/New_York:20230316T100000
DTEND;TZID=America/New_York:20230316T113000
DTSTAMP:20260425T120402
CREATED:20230208T185421Z
LAST-MODIFIED:20230309T181911Z
UID:10000920-1678960800-1678966200@www.madison-park.org
SUMMARY:2023 Doughnuts and Grits with Your Delegates
DESCRIPTION:2023 Doughnuts and Grits with Your Delegates\nThursday\, March 16\, 2023 10:00 am – 11:30 am\nDoors will open at 9:30 am\nHibernian Hall 184 Dudley Street Roxbury\, MA\nWe want to hear from YOU!\nJoin us to chat with Roxbury local & state elected officials.\nIn partnership with MACDC\nFor more information\, contact Allison Anderson at aanderson@madison-park.org / 617.849.6225\n 
URL:https://www.madison-park.org/event/2023-doughnuts-and-grits-with-your-delegates/
LOCATION:Hibernian Hall
CATEGORIES:Civic Engagement,Community Action,Hibernian Hall,Madison Park Development Corporation
ATTACH;FMTTYPE=image/png:https://www.madison-park.org/wp-content/uploads/2023/02/Doughnuts-and-Grits-Flyer-2023-V1.png
END:VEVENT
BEGIN:VEVENT
DTSTART;TZID=America/New_York:20230225T180000
DTEND;TZID=America/New_York:20230225T210000
DTSTAMP:20260425T120402
CREATED:20230110T083828Z
LAST-MODIFIED:20230110T083828Z
UID:10000915-1677348000-1677358800@www.madison-park.org
SUMMARY:Nubian Square Youth Ball (hosted by Meaningful Occasions)
DESCRIPTION:Meaningful Occasions is hosting the Nubian Square Youth Ball!\nAbout Nubian Square Youth Ball: Meaningful Occasions’ Nubian Square Youth Ball will be a night to remember for the youth of the Boston community. Meaningful Occasions invites youth 14 – 18 to embark on a formal evening adventure that includes live music\, fun photos\, and much more! \nWhen: Saturday\, February 25th\, 2023\, from 6:00 pm — 9:30 pm\nWhere: 2301 Washington Street\, Roxbury\, MA 02119\nCost: $15 — $30\nFor more information about the Nubian Square Youth Ball\, please email info@meaningfuloccasions.com or call 617.908.9783.  \nPurchase tickets by clicking here.\nWe hope to see you there! #MPDC #MPDCRox
URL:https://www.madison-park.org/event/nubian-square-youth-ball-hosted-by-meaningful-occasions/
LOCATION:2301 Washington Street
CATEGORIES:Madison Park Development Corporation,MPDC
ATTACH;FMTTYPE=image/jpeg:https://www.madison-park.org/wp-content/uploads/2023/01/youth-ball.jpeg
END:VEVENT
BEGIN:VEVENT
DTSTART;TZID=America/New_York:20230114T183000
DTEND;TZID=America/New_York:20230114T203000
DTSTAMP:20260425T120402
CREATED:20221209T183004Z
LAST-MODIFIED:20230110T172637Z
UID:10000911-1673721000-1673728200@www.madison-park.org
SUMMARY:Roxbury Roots II @ Hibernian Hall
DESCRIPTION:Join Hibernian Hall for a night of gathering and live storytelling around the campfire!\nAbout Roxbury Roots: “Roxbury Roots” was created by Haris Lefteri (Artistic Director of Hibernian Hall) and Leslie Stafford (Health Equity & Wellness Coordinator) with the purpose of giving a platform to adventurers and storytellers of the Roxbury community. After popular demand and a successful inaugural event in August 2022\, it has returned for “Roxbury Roots II”. All proceeds from this event will go to charity!\nWhen: Saturday\, January 14th\, 2023\, from 6:30 — 8:30 pm\nWhere: Hibernian Hall (located at 184 Dudley Street\, Boston\, MA 02116)\nCost: Pay – What – You – Can\nFor more information about Roxbury Roots\, please email Haris Lefteri\, Artistic Director of Hibernian Hall\, at hlefteri@madison-park.org. \nPurchase tickets by clicking here.\nWe hope to see you there! #MPDC #MPDCRox #ItsHappeningatHibernian
URL:https://www.madison-park.org/event/roxbury-roots-ii-hibernian-hall/
LOCATION:Hibernian Hall
CATEGORIES:Arts & Culture,Hibernian Hall,Madison Park Development Corporation,MPDC
ATTACH;FMTTYPE=image/png:https://www.madison-park.org/wp-content/uploads/2022/12/ROXBURY-ROOTS-JANUARY-2023-KR-EDITS-V2.png
ORGANIZER;CN="Hibernian Hall":MAILTO:fwilliams@madison-park.org
END:VEVENT
BEGIN:VEVENT
DTSTART;TZID=America/New_York:20221214T160000
DTEND;TZID=America/New_York:20221214T190000
DTSTAMP:20260425T120402
CREATED:20221209T185621Z
LAST-MODIFIED:20221209T185621Z
UID:10000913-1671033600-1671044400@www.madison-park.org
SUMMARY:Dewitt Center Holiday Party
DESCRIPTION:Join The Dewitt Center for a Holiday Party!\nAbout Dewitt Center Holiday Party: The Dewitt Center’s Holiday Party will include holiday music\, tasty treats\, and fun for the entire community. \nWhen: December 14th\, 2022\, from 4:00 pm — 7:00 pm\nWhere: The Dewitt Center (located at 122 Dewitt Drive\, Boston\, MA 02116)\nCost: FREE!\nFor more information about the Dewitt Center Holiday Party\, please email Daria Davis-Fleming at ddavisfleming@madison-park.org.\nWe will see you there! #MPDC #MPDCRox #DoItAtTheDewitt
URL:https://www.madison-park.org/event/dewitt-center-holiday-party/
LOCATION:Dewitt Center\, 122 Dewitt Drive\, Roxbury\, MA\, 02110\, United States
CATEGORIES:Dewitt Community Center,Madison Park Development Corporation
ATTACH;FMTTYPE=image/png:https://www.madison-park.org/wp-content/uploads/2022/12/e94d3674-b5cc-4e58-adbb-e65a5650dfc8.png
ORGANIZER;CN="The Dewitt Center":MAILTO:edavis@madison-park.org
END:VEVENT
BEGIN:VEVENT
DTSTART;TZID=America/New_York:20221025T190000
DTEND;TZID=America/New_York:20221025T203000
DTSTAMP:20260425T120402
CREATED:20221020T064834Z
LAST-MODIFIED:20221020T064936Z
UID:10000901-1666724400-1666729800@www.madison-park.org
SUMMARY:National Estate Planning Awareness Month Workshops (hosted by Black Community Developers Group)
DESCRIPTION:Join the Black Community Developers Group (BCDG) in celebrating National Estate Planning Awareness Month with FREE estate planning workshops!\n About BCDG’s Estate Planning Awareness Month workshops: Join the Black Community Developers Group for a free estate planning workshop that will equip individuals with the knowledge\, information\, and tools to estate plan within their futures. Topics include Wills vs. Trusts; charitable giving; understanding the power of an attorney; and so much more!\nWhen: Tuesday\, October 25th\, 2022; from 7:00 pm — 8:30 pm\nWhere: On Zoom (please click here to access the meeting link)\nCost: FREE!\nFor more information about BCDG’s National Estate Planning Awareness Month workshops\, please contact the Black Community Developers Group via email at info@bcdgroup.org.\nWe hope to see you there! #MPDC #MPDCRox 
URL:https://www.madison-park.org/event/national-estate-planning-awareness-month-workshops-hosted-by-black-community-developers-group/
LOCATION:Zoom
CATEGORIES:Madison Park Development Corporation
ATTACH;FMTTYPE=image/png:https://www.madison-park.org/wp-content/uploads/2022/10/image002.png
ORGANIZER;CN="Black Community Developers Group":MAILTO:info@bcdgroup.org
END:VEVENT
BEGIN:VEVENT
DTSTART;TZID=UTC:20220917T120000
DTEND;TZID=UTC:20220917T160000
DTSTAMP:20260425T120402
CREATED:20220908T190435Z
LAST-MODIFIED:20220909T201753Z
UID:10000892-1663416000-1663430400@www.madison-park.org
SUMMARY:Savor the Square 2022 (hosted by The American City Coalition Boston)
DESCRIPTION:Join MPDC and Savor the Taste of Nubian Square through #SavortheSquare\, hosted by The American City Coalition of Boston\, Roxbury Main Streets\, and Boston Public Library!\nAbout Shop Nubian Square Day/Savor the Square: The American City Coalition\, Roxbury Main Streets\, and Boston Public Library host Savor The Square 2022\, a Saturday series that aims to introduce consumers to Roxbury vendors\, artists\, artisans\, and businesses. Enjoy family-friendly fun\, good music\, and free ice cream from the Boston Police Department. \nWhen: Saturday\, September 17th\, 2022\, from 12:00 pm — 4:00 pm\nWhere: Nubian Square (located at 149 Dudley Street\, Roxbury\, MA 02119)\nCost: FREE!\nFor more information about Savor The Square or Shop Nubian Square Day\, please email sts@tamcc.org.\nWe hope to see you there! #SavorTheSquare
URL:https://www.madison-park.org/event/savor-the-square-2022-hosted-by-the-american-city-coalition-boston/
LOCATION:Nubian Square\, Roxbury\, MA
CATEGORIES:Arts & Culture,Madison Park Development Corporation
ATTACH;FMTTYPE=image/jpeg:https://www.madison-park.org/wp-content/uploads/2022/09/2022-TACC-Savor-The-Square-SEP-17-scaled.jpg
ORGANIZER;CN="TAMCC Boston":MAILTO:sts@tamcc.org
END:VEVENT
END:VCALENDAR