BEGIN:VCALENDAR
VERSION:2.0
PRODID:-//Madison Park Development Corporation - ECPv6.15.18//NONSGML v1.0//EN
CALSCALE:GREGORIAN
METHOD:PUBLISH
X-ORIGINAL-URL:https://www.madison-park.org
X-WR-CALDESC:Events for Madison Park Development Corporation
REFRESH-INTERVAL;VALUE=DURATION:PT1H
X-Robots-Tag:noindex
X-PUBLISHED-TTL:PT1H
BEGIN:VTIMEZONE
TZID:America/New_York
BEGIN:DAYLIGHT
TZOFFSETFROM:-0500
TZOFFSETTO:-0400
TZNAME:EDT
DTSTART:20230312T070000
END:DAYLIGHT
BEGIN:STANDARD
TZOFFSETFROM:-0400
TZOFFSETTO:-0500
TZNAME:EST
DTSTART:20231105T060000
END:STANDARD
BEGIN:DAYLIGHT
TZOFFSETFROM:-0500
TZOFFSETTO:-0400
TZNAME:EDT
DTSTART:20240310T070000
END:DAYLIGHT
BEGIN:STANDARD
TZOFFSETFROM:-0400
TZOFFSETTO:-0500
TZNAME:EST
DTSTART:20241103T060000
END:STANDARD
BEGIN:DAYLIGHT
TZOFFSETFROM:-0500
TZOFFSETTO:-0400
TZNAME:EDT
DTSTART:20250309T070000
END:DAYLIGHT
BEGIN:STANDARD
TZOFFSETFROM:-0400
TZOFFSETTO:-0500
TZNAME:EST
DTSTART:20251102T060000
END:STANDARD
END:VTIMEZONE
BEGIN:VEVENT
DTSTART;TZID=America/New_York:20240423T130000
DTEND;TZID=America/New_York:20240606T153000
DTSTAMP:20260423T074806
CREATED:20240228T231858Z
LAST-MODIFIED:20240311T195142Z
UID:10001049-1713877200-1717687800@www.madison-park.org
SUMMARY:FREE PROGRAM: MPDC's Healthcare Support Services Program | Hosted by MPDC
DESCRIPTION:Want to get involved in the Healthcare Services field? Apply to MPDC’s Healthcare Support Services Program TODAY!\nAbout MPDC’s Healthcare Support Services Program: MPDC\, in partnership with Boston Children’s Hospital\, is excited to bring you an exclusive paid training program to help jumpstart your career at Boston Children’s Hospital. The third cycle is now open and accepting applications from community members! \nWhen: April 23rd – June 6th\, 2024; Wednesdays and Thursdays\nWhere: MPDC’s Offices (located at 184 Dudley Street\, Roxbury\, MA 02118) \nCost: FREE!\nApplication criteria are as follows:\nAges 17-24 \nMA Identification \nBoston residents with proximity to Roxbury\, MA \nPrior work experience\nInterested in immediately working upon successful completion of the training program\nAvailability to work weekends\n| Register for MPDC’s Healthcare Services Training Program here |\n#MPDC #MPDCRox \nFor more information about MPDC’s Healthcare Support Services Training Program\, please contact Carlos Taveras\, Opportunity Employment Program Coordinator\, at ctaveras@madison-park.org or call 978.397.5936.
URL:https://www.madison-park.org/event/free-program-mpdcs-healthcare-support-services-program-hosted-by-mpdc/
LOCATION:Madison Park Development Corporation\, 184 Dudley Street\, Roxbury\, MA\, 02119\, United States
CATEGORIES:Madison Park Development Corporation,MPDC,Opportunity Employment Program,Workforce Diversity and Development
ATTACH;FMTTYPE=image/png:https://www.madison-park.org/wp-content/uploads/2024/02/MPDC-Healthcare-Support-Services-Training-Program-1.png
END:VEVENT
END:VCALENDAR