BEGIN:VCALENDAR
VERSION:2.0
PRODID:-//Madison Park Development Corporation - ECPv6.15.18//NONSGML v1.0//EN
CALSCALE:GREGORIAN
METHOD:PUBLISH
X-ORIGINAL-URL:https://www.madison-park.org
X-WR-CALDESC:Events for Madison Park Development Corporation
REFRESH-INTERVAL;VALUE=DURATION:PT1H
X-Robots-Tag:noindex
X-PUBLISHED-TTL:PT1H
BEGIN:VTIMEZONE
TZID:America/New_York
BEGIN:DAYLIGHT
TZOFFSETFROM:-0500
TZOFFSETTO:-0400
TZNAME:EDT
DTSTART:20220313T070000
END:DAYLIGHT
BEGIN:STANDARD
TZOFFSETFROM:-0400
TZOFFSETTO:-0500
TZNAME:EST
DTSTART:20221106T060000
END:STANDARD
BEGIN:DAYLIGHT
TZOFFSETFROM:-0500
TZOFFSETTO:-0400
TZNAME:EDT
DTSTART:20230312T070000
END:DAYLIGHT
BEGIN:STANDARD
TZOFFSETFROM:-0400
TZOFFSETTO:-0500
TZNAME:EST
DTSTART:20231105T060000
END:STANDARD
BEGIN:DAYLIGHT
TZOFFSETFROM:-0500
TZOFFSETTO:-0400
TZNAME:EDT
DTSTART:20240310T070000
END:DAYLIGHT
BEGIN:STANDARD
TZOFFSETFROM:-0400
TZOFFSETTO:-0500
TZNAME:EST
DTSTART:20241103T060000
END:STANDARD
END:VTIMEZONE
BEGIN:VEVENT
DTSTART;TZID=America/New_York:20231116T183000
DTEND;TZID=America/New_York:20231116T213000
DTSTAMP:20260424T091539
CREATED:20230627T195713Z
LAST-MODIFIED:20231114T175353Z
UID:10000982-1700159400-1700170200@www.madison-park.org
SUMMARY:Sparks! 2023 MPDC's Annual Fundraising Gala
DESCRIPTION:You are cordially invited to\nSparks!\nBow Ties\, Bubbles\, and Building Community\nMPDC’s Annual Fundraising Gala\nTHURSDAY\, NOVEMBER 16\, 2023\n6:30 pm – 9:30 pm\nHibernian Hall Ballroom\n184 Dudley Street\nRoxbury\, MA 02119\nPurchase tickets now\nMadison Park Development Corporation welcomes you to a festive creative black tie (*OPTIONAL*) gala at Hibernian Hall! Enjoy an evening building community through meaningful awards\, exciting performances\, nearly a dozen local food & beverage stations\, and\, of course\, dancing!\n**Please wear WHATEVER you’d like!**\nTICKETS\nIndividual Ticket – $100\nSeniors & Students – $25\nComplimentary tickets for MPDC residents\n\nFEATURING PERFORMANCES BY\nCornell Coley\nVLA DANCE\nD.Ruff\nAngelena & The Unit\n2T2uff\n \n\nFOOD AND BEVERAGES PROVIDED BY\nAzúcar y Más Events\nBully Boy Distillers  \nCupcake Therapy \nDarryl’s Corner Bar & Kitchen \nDorchester Brewing\nFresh Food Generation \nGourmet Kreyòl \nJuicygreens\nMIDA\nMs. Boston Berries\nRhythm N’ Wraps\nSamuel Adams\nSlade’s Bar and Grill\nThe Urban Grape\n \n\n\nMPDC’S 2023 HONOREES\nEMBRACING PROMISE AWARD\n \nKadidiatou Ba\nMPDC Resident & Youth Workforce Program Participant\n\nEDNA V. BYNOE NEIGHBORHOOD CHAMPION AWARD\n \nPeggy Holt\nOrchard Gardens Resident & Vice President of Orchard Gardens Resident Association\n\n2023 COMMUNITY CATALYST AWARDS\n \nEkua Holmes\nRoxbury-born mixed-media artist\, children’s book illustrator\, and community arts leader\n\n\nLeslie Stafford\nMPDC Health Equity & Wellness Manager\n\n \nPlease join us on November 16th\, 2023!\nWe can’t wait to celebrate with you!\n \nFor more information about Sparks!\, please contact Griffin Thomas\, Resource Development Director\, at gthomas@madison-park.org.\n#MPDC #MPDCRox\n \nBecome a sponsor of Sparks!\nCheck out the 2023 Sponsorship information here.\nWe are excited to be once again able to offer all of our sponsors Community Investment Tax Credits (CITC). Through the CITC program\, donors who contribute to community development organizations like MPDC can receive a 50% state tax rebate on donations of $1\,000 or more. For example\, is your business considering sponsoring the Sparks Gala at the $5\,000 level? Consider becoming a $10\,000 level sponsor and leveraging the CITC program\, resulting in a $5\,000 donation out-of-pocket after your Massachusetts state tax rebate.
URL:https://www.madison-park.org/event/sparks-2023/
LOCATION:Hibernian Hall
CATEGORIES:Arts & Culture,Hibernian Hall,Madison Park Development Corporation,MPDC
ATTACH;FMTTYPE=image/png:https://www.madison-park.org/wp-content/uploads/2023/06/1.png
END:VEVENT
END:VCALENDAR