BEGIN:VCALENDAR
VERSION:2.0
PRODID:-//Madison Park Development Corporation - ECPv6.15.18//NONSGML v1.0//EN
CALSCALE:GREGORIAN
METHOD:PUBLISH
X-ORIGINAL-URL:https://www.madison-park.org
X-WR-CALDESC:Events for Madison Park Development Corporation
REFRESH-INTERVAL;VALUE=DURATION:PT1H
X-Robots-Tag:noindex
X-PUBLISHED-TTL:PT1H
BEGIN:VTIMEZONE
TZID:America/New_York
BEGIN:DAYLIGHT
TZOFFSETFROM:-0500
TZOFFSETTO:-0400
TZNAME:EDT
DTSTART:20220313T070000
END:DAYLIGHT
BEGIN:STANDARD
TZOFFSETFROM:-0400
TZOFFSETTO:-0500
TZNAME:EST
DTSTART:20221106T060000
END:STANDARD
BEGIN:DAYLIGHT
TZOFFSETFROM:-0500
TZOFFSETTO:-0400
TZNAME:EDT
DTSTART:20230312T070000
END:DAYLIGHT
BEGIN:STANDARD
TZOFFSETFROM:-0400
TZOFFSETTO:-0500
TZNAME:EST
DTSTART:20231105T060000
END:STANDARD
BEGIN:DAYLIGHT
TZOFFSETFROM:-0500
TZOFFSETTO:-0400
TZNAME:EDT
DTSTART:20240310T070000
END:DAYLIGHT
BEGIN:STANDARD
TZOFFSETFROM:-0400
TZOFFSETTO:-0500
TZNAME:EST
DTSTART:20241103T060000
END:STANDARD
END:VTIMEZONE
BEGIN:VEVENT
DTSTART;TZID=America/New_York:20230615T180000
DTEND;TZID=America/New_York:20230615T200000
DTSTAMP:20260422T123437
CREATED:20230602T045721Z
LAST-MODIFIED:20230602T045736Z
UID:10000970-1686852000-1686859200@www.madison-park.org
SUMMARY:Get to Know Police Commissioner Michael Cox (hosted by City of Boston)
DESCRIPTION:The City of Boston invites you to Get to Know Police Commissioner Michael Cox!\nAbout OPAT Commission Community Meeting: The meeting will feature “Get to Know Commissioner Cox” and will allow residents to interact with Boston Police Department Commissioner Cox and learn more about his public safety priorities and strategies. Members of the public can attend in-person at the Bolling Building or can join virtually via Zoom to watch a live stream of the event by registering using the link on our flyer. Language interpretation will be provided in-person for the event.\nWhen: Thursday\, June 15th\, 2023; from 6:00 pm — 8:00 pm\nWhere: Bruce C. Bolling Municipal Building School Committee Room\, 2nd Floor (located at 2300 Washington Street\, Roxbury\, MA 02119)\nFor more information about OPAT\, please visit boston.gov/opat.\n#MPDC #MPDCRox
URL:https://www.madison-park.org/event/get-to-know-police-commissioner-michael-cox/
LOCATION:Bruce Bolling Municipal\, 2300 Washington Street\, Roxbury\, United States
CATEGORIES:Madison Park Development Corporation,MPDC
ATTACH;FMTTYPE=image/png:https://www.madison-park.org/wp-content/uploads/2023/06/Screen-Shot-2023-06-02-at-12.45.56-AM.png
GEO:42.3301639;-71.083968
X-APPLE-STRUCTURED-LOCATION;VALUE=URI;X-ADDRESS=Bruce Bolling Municipal 2300 Washington Street Roxbury United States;X-APPLE-RADIUS=500;X-TITLE=2300 Washington Street:geo:-71.083968,42.3301639
END:VEVENT
END:VCALENDAR