BEGIN:VCALENDAR
VERSION:2.0
PRODID:-//Madison Park Development Corporation - ECPv6.15.18//NONSGML v1.0//EN
CALSCALE:GREGORIAN
METHOD:PUBLISH
X-ORIGINAL-URL:https://www.madison-park.org
X-WR-CALDESC:Events for Madison Park Development Corporation
REFRESH-INTERVAL;VALUE=DURATION:PT1H
X-Robots-Tag:noindex
X-PUBLISHED-TTL:PT1H
BEGIN:VTIMEZONE
TZID:America/New_York
BEGIN:DAYLIGHT
TZOFFSETFROM:-0500
TZOFFSETTO:-0400
TZNAME:EDT
DTSTART:20230312T070000
END:DAYLIGHT
BEGIN:STANDARD
TZOFFSETFROM:-0400
TZOFFSETTO:-0500
TZNAME:EST
DTSTART:20231105T060000
END:STANDARD
BEGIN:DAYLIGHT
TZOFFSETFROM:-0500
TZOFFSETTO:-0400
TZNAME:EDT
DTSTART:20240310T070000
END:DAYLIGHT
BEGIN:STANDARD
TZOFFSETFROM:-0400
TZOFFSETTO:-0500
TZNAME:EST
DTSTART:20241103T060000
END:STANDARD
BEGIN:DAYLIGHT
TZOFFSETFROM:-0500
TZOFFSETTO:-0400
TZNAME:EDT
DTSTART:20250309T070000
END:DAYLIGHT
BEGIN:STANDARD
TZOFFSETFROM:-0400
TZOFFSETTO:-0500
TZNAME:EST
DTSTART:20251102T060000
END:STANDARD
END:VTIMEZONE
BEGIN:VTIMEZONE
TZID:UTC
BEGIN:STANDARD
TZOFFSETFROM:+0000
TZOFFSETTO:+0000
TZNAME:UTC
DTSTART:20210101T000000
END:STANDARD
END:VTIMEZONE
BEGIN:VEVENT
DTSTART;TZID=America/New_York:20241121T183000
DTEND;TZID=America/New_York:20241121T213000
DTSTAMP:20260424T091916
CREATED:20240712T181716Z
LAST-MODIFIED:20241121T170433Z
UID:10001074-1732213800-1732224600@www.madison-park.org
SUMMARY:SOLD OUT Sparks! 2024 - A starry night in Nubian Square - MPDC's Annual Fundraising Gala
DESCRIPTION:You are cordially invited to\nSparks!\nA starry night in Nubian Square\nMPDC’s Annual Fundraising Gala\nTHURSDAY\, NOVEMBER 21\, 2024\n6:30 pm – 9:30 pm\n(Pre-Reception at 5:30)\nHibernian Hall Ballroom\n184 Dudley Street\nRoxbury\, MA 02119\nMadison Park Development Corporation welcomes you to a festive\, creative black-tie (*OPTIONAL*) gala at historic Hibernian Hall! Enjoy an evening of building community through meaningful awards\, exciting performances\, a delicious dinner\, locally made beverages\, and\, of course\, dancing!\n**Please wear WHATEVER you’d like!**
URL:https://www.madison-park.org/event/sparks-2024-a-starry-night-in-nubian-square-mpdcs-annual-fundraising-gala/
LOCATION:Hibernian Hall
CATEGORIES:Arts & Culture,CITC,Civic Engagement,Community Action,Dewitt Community Center,Health & Wellness,Hibernian Hall,Madison Park Development Corporation,Opportunity Employment Program,Real Estate,Seniors,Summer Youth Employment Program,Youth Development
ATTACH;FMTTYPE=image/png:https://www.madison-park.org/wp-content/uploads/2024/07/Sparks-Banner-AD-2024-4.917-x-4.8-in-1.png
END:VEVENT
BEGIN:VEVENT
DTSTART;TZID=America/New_York:20240607T080000
DTEND;TZID=America/New_York:20240607T235900
DTSTAMP:20260424T091916
CREATED:20240417T194642Z
LAST-MODIFIED:20240422T080437Z
UID:10001062-1717747200-1717804740@www.madison-park.org
SUMMARY:PAID YOUTH EMPLOYMENT: MPDC's Summer Youth Employment Program (SYEP) Applications Now Open | APPLY TODAY!
DESCRIPTION:MPDC’s Summer Youth Employment Program (SYEP) is officially accepting applicants for Summer 2024!\nAbout MPDC’s Summer Youth Employment Program (SYEP): Our program provides underserved in-school youth\, ages 14-19\, with career internships\, job readiness skills\, and educational enrichment. Our training program is intended to provide early workforce experience for young people who might not otherwise have this opportunity\, while supporting them with completing academics and college readiness. We also provide organized workshops and learning experiences to develop young people’s leadership skills. \nALL Intership sites are in-person unless stated otherwise!\nIncomplete applications will not be accepted or considered.\nApplication Deadline: June 7th\, 2024 @ 11:59 p.m.\n| Apply today here |\nFor more information about the Summer Youth Employment Program (SYEP)\, please contact Yhinny Matos\, MPDC’s Youth Workforce Manager\, at ymatos@madison-park.org.\n#MPDC #MPDCRox \n\n 
URL:https://www.madison-park.org/event/paid-youth-employment-mpdcs-summer-youth-employment-program-syep-applications-are-now-open/
LOCATION:MPDC’s Offices\, 184 Dudley Street\, Roxbury\, MA\, 02116\, United States
CATEGORIES:Madison Park Development Corporation,MPDC,Summer Youth Employment Program,Workforce Diversity and Development,Youth Development
ATTACH;FMTTYPE=image/png:https://www.madison-park.org/wp-content/uploads/2024/04/SYEP-Flyer-2024-FINAL-1.png
END:VEVENT
BEGIN:VEVENT
DTSTART;TZID=America/New_York:20240322T170000
DTEND;TZID=America/New_York:20240322T190000
DTSTAMP:20260424T091916
CREATED:20231103T033017Z
LAST-MODIFIED:20240308T231224Z
UID:10001024-1711126800-1711134000@www.madison-park.org
SUMMARY:Girls Group Meet & Greet | Hosted by The Dewitt Center (FREE!)
DESCRIPTION:Are you ready for an empowering and fun-filled gathering? Join The Dewitt Center for a Girls Group Meet and Greet!\nAbout Girls Group Meet and Greet: This event aims to create a safe and supportive space for girls to unite\, share their stories\, and inspire one another. Whether you want to make new friends\, gain confidence\, or have a great time\, this meet and greet is the perfect opportunity! Open to girls ages 13 — 19.\nWhen: Friday\, March 22\, 2024\, from 5:00 p.m. to 7:00 p.m. \nWhere: The Dewitt Center (located at 122 Dewitt Drive\, Roxbury\, MA 02119)\nClick here to register!\nFor more information about the Girls’ Group Meet & Greet at The Dewitt\, please contact Zeyanna Defortunato\, Dewitt Center Program Manager\, at zdefortunato@madison-park.org.\n#MPDC #MPDCRox #DoItATheDewitt\n  \n 
URL:https://www.madison-park.org/event/girls-group-meet-greet-hosted-by-the-dewitt-center/
LOCATION:Dewitt Center\, 122 Dewitt Drive\, Roxbury\, MA\, 02110\, United States
CATEGORIES:Community Action,Dewitt Community Center,Madison Park Development Corporation,MPDC,Summer Youth Employment Program
ATTACH;FMTTYPE=image/png:https://www.madison-park.org/wp-content/uploads/2023/11/Girls-Group-Meet-greet-FINAL.png
END:VEVENT
BEGIN:VEVENT
DTSTART;TZID=UTC:20220705T080000
DTEND;TZID=UTC:20220726T170000
DTSTAMP:20260424T091916
CREATED:20220329T025412Z
LAST-MODIFIED:20220329T160040Z
UID:10000863-1657008000-1658854800@www.madison-park.org
SUMMARY:MPDC's Summer Youth Employment Program Application
DESCRIPTION:MPDC presents Summer 2022 Soheil Turner Youth Leadership and Workforce Development Program\nAbout MPDC’s STYLI: Our program provides underserved in-school youth\, ages 14-19\, with career internships\, job readiness skills\, and educational enrichment. Our training program is intended to provide early workforce experience for young people who might not otherwise have this opportunity while supporting them with completing academics and college readiness. We also provide organized workshops and learning experiences to develop young people’s leadership skills.   \nAge Range: YOUTH\, ages 14 yrs old — 19 yrs old\nWhen: July 5th\, 2022 – August 26th\, 2022\nWhere: In-person\nPrice Range: FREE!\nEnrollment Deadline: May 27th\, 2022\nPlease contact Yhinny Matos at ymatos@madison-park.org or call 617.849.6236.\nAPPLY TODAY!\nTo apply\, please click here: https://www.tfaforms.com/4971996
URL:https://www.madison-park.org/event/mpdcs-summer-youth-employment-program-application/
LOCATION:Madison Park Development Corporation\, 184 Dudley Street\, Roxbury\, MA\, 02119\, United States
CATEGORIES:Summer Youth Employment Program,Workforce Diversity and Development,Youth Development
ATTACH;FMTTYPE=image/png:https://www.madison-park.org/wp-content/uploads/2022/03/2.png
END:VEVENT
END:VCALENDAR