BEGIN:VCALENDAR
VERSION:2.0
PRODID:-//Madison Park Development Corporation - ECPv6.15.18//NONSGML v1.0//EN
CALSCALE:GREGORIAN
METHOD:PUBLISH
X-WR-CALNAME:Madison Park Development Corporation
X-ORIGINAL-URL:https://www.madison-park.org
X-WR-CALDESC:Events for Madison Park Development Corporation
REFRESH-INTERVAL;VALUE=DURATION:PT1H
X-Robots-Tag:noindex
X-PUBLISHED-TTL:PT1H
BEGIN:VTIMEZONE
TZID:America/New_York
BEGIN:DAYLIGHT
TZOFFSETFROM:-0500
TZOFFSETTO:-0400
TZNAME:EDT
DTSTART:20250309T070000
END:DAYLIGHT
BEGIN:STANDARD
TZOFFSETFROM:-0400
TZOFFSETTO:-0500
TZNAME:EST
DTSTART:20251102T060000
END:STANDARD
BEGIN:DAYLIGHT
TZOFFSETFROM:-0500
TZOFFSETTO:-0400
TZNAME:EDT
DTSTART:20260308T070000
END:DAYLIGHT
BEGIN:STANDARD
TZOFFSETFROM:-0400
TZOFFSETTO:-0500
TZNAME:EST
DTSTART:20261101T060000
END:STANDARD
BEGIN:DAYLIGHT
TZOFFSETFROM:-0500
TZOFFSETTO:-0400
TZNAME:EDT
DTSTART:20270314T070000
END:DAYLIGHT
BEGIN:STANDARD
TZOFFSETFROM:-0400
TZOFFSETTO:-0500
TZNAME:EST
DTSTART:20271107T060000
END:STANDARD
END:VTIMEZONE
BEGIN:VEVENT
DTSTART;TZID=America/New_York:20260421T110000
DTEND;TZID=America/New_York:20260421T150000
DTSTAMP:20260421T044256
CREATED:20260319T141951Z
LAST-MODIFIED:20260319T141951Z
UID:10001191-1776769200-1776783600@www.madison-park.org
SUMMARY:No Trauma\, No Drama Youth Wellness Event 2026
DESCRIPTION:No Trauma\, No Drama Youth Wellness EventTuesday\, April 21\, 202611:00 AM – 3:00 PMThe Dewitt Center\, 122 Dewitt Drive\, Roxbury\, MA\nNo Trauma\, No Drama is a youth-focused wellness event centered on healing\, community\, creativity\, and personal growth. Participants will engage in interactive workshops\, meaningful conversations\, and hands-on activities designed to support mental health\, resilience\, and overall well-being.\nYouth will be assigned to workshop groups throughout the event. Participants are encouraged to wear closed-toe shoes and comfortable clothing.\nRegistration is required. Space is limited to 125 youth participants.
URL:https://www.madison-park.org/event/no-trauma-no-drama-youth-wellness-event-2026/
LOCATION:Dewitt Center\, 122 Dewitt Drive\, Roxbury\, MA\, 02110\, United States
CATEGORIES:Dewitt Community Center,Youth Development
ATTACH;FMTTYPE=image/jpeg:https://www.madison-park.org/wp-content/uploads/2026/03/NTND-Flyers-page-001.jpg
END:VEVENT
BEGIN:VEVENT
DTSTART;TZID=America/New_York:20260515T160000
DTEND;TZID=America/New_York:20260515T200000
DTSTAMP:20260421T044256
CREATED:20260305T200202Z
LAST-MODIFIED:20260305T200202Z
UID:10001187-1778860800-1778875200@www.madison-park.org
SUMMARY:The Dewitt Center End of School Year Cookout
DESCRIPTION:The Dewitt Center End of School Year CookoutFriday\, May 15\, 20264:00 PM – 8:00 PM122 Dewitt Drive\, Roxbury\, MAJoin us for an end-of-school-year celebration at The Dewitt Center. This all-ages event will feature food\, music\, games\, an award ceremony\, student performances\, creative stations\, raffles\, and more.\nFor more information\, contact Taquari Milton at tmilton@madison-park.org or (617) 378-7822.
URL:https://www.madison-park.org/event/the-dewitt-center-end-of-school-year-cookout/
LOCATION:Dewitt Center\, 122 Dewitt Drive\, Roxbury\, MA\, 02110\, United States
CATEGORIES:Dewitt Community Center
ATTACH;FMTTYPE=image/png:https://www.madison-park.org/wp-content/uploads/2026/03/Rainbow-Playful-Creative-Workshop-Flyer-Magnets-Portrait.png
END:VEVENT
END:VCALENDAR